BEGIN:VCALENDAR
VERSION:2.0
PRODID:-//DIOCESI DI ROMA - ECPv4.6.14.1//NONSGML v1.0//EN
CALSCALE:GREGORIAN
METHOD:PUBLISH
X-WR-CALNAME:DIOCESI DI ROMA
X-ORIGINAL-URL:https://www.diocesidiroma.it
X-WR-CALDESC:Eventi per DIOCESI DI ROMA
BEGIN:VEVENT
DTSTART;TZID=Europe/Rome:20200206T170000
DTEND;TZID=Europe/Rome:20200206T170000
DTSTAMP:20260422T100120
CREATED:20190918T072705Z
LAST-MODIFIED:20190918T072705Z
UID:8667-1581008400-1581008400@www.diocesidiroma.it
SUMMARY:Incontro di formazione dei responsabili laici dei centri filippini
DESCRIPTION:Incontro di formazione dei responsabili laici dei centri filippini nella basilica di Santa Pudenziana (Ufficio Migrantes). \n
URL:https://www.diocesidiroma.it/event/incontro-di-formazione-dei-responsabili-laici-dei-centri-filippini-2/
CATEGORIES:Iniziative degli Uffici
END:VEVENT
END:VCALENDAR