BEGIN:VCALENDAR
VERSION:2.0
PRODID:-//DIOCESI DI ROMA - ECPv4.6.14.1//NONSGML v1.0//EN
CALSCALE:GREGORIAN
METHOD:PUBLISH
X-WR-CALNAME:DIOCESI DI ROMA
X-ORIGINAL-URL:https://www.diocesidiroma.it
X-WR-CALDESC:Eventi per DIOCESI DI ROMA
BEGIN:VEVENT
DTSTART;TZID=Europe/Rome:20251106T170000
DTEND;TZID=Europe/Rome:20251106T170000
DTSTAMP:20260424T070726
CREATED:20250910T105353Z
LAST-MODIFIED:20250910T105353Z
UID:36902-1762448400-1762448400@www.diocesidiroma.it
SUMMARY:Incontro di formazione dei responsabili laici dei centri filippini
DESCRIPTION:Incontro di formazione dei responsabili laici dei centri filippini – Basilica di S. Pudenziana ore 17.00 \n
URL:https://www.diocesidiroma.it/event/incontro-di-formazione-dei-responsabili-laici-dei-centri-filippini-3/
CATEGORIES:Iniziative degli Uffici
END:VEVENT
END:VCALENDAR