BEGIN:VCALENDAR
VERSION:2.0
PRODID:-//DIOCESI DI ROMA - ECPv4.6.14.1//NONSGML v1.0//EN
CALSCALE:GREGORIAN
METHOD:PUBLISH
X-WR-CALNAME:DIOCESI DI ROMA
X-ORIGINAL-URL:https://www.diocesidiroma.it
X-WR-CALDESC:Eventi per DIOCESI DI ROMA
BEGIN:VEVENT
DTSTART;TZID=Europe/Rome:20260305T170000
DTEND;TZID=Europe/Rome:20260305T170000
DTSTAMP:20260421T050318
CREATED:20251001T081417Z
LAST-MODIFIED:20251001T081417Z
UID:37499-1772730000-1772730000@www.diocesidiroma.it
SUMMARY:Incontro di formazione dei responsabili laici dei centri filippini
DESCRIPTION:“Incontro di formazione dei responsabili laici dei centri filippini – (Uff. Migrantes per la pastorale della mobilità umana) \n
URL:https://www.diocesidiroma.it/event/incontro-di-formazione-dei-responsabili-laici-dei-centri-filippini-4/
CATEGORIES:In Diocesi,Iniziative degli Uffici
END:VEVENT
END:VCALENDAR