BEGIN:VCALENDAR
VERSION:2.0
PRODID:-//DIOCESI DI ROMA - ECPv4.6.14.1//NONSGML v1.0//EN
CALSCALE:GREGORIAN
METHOD:PUBLISH
X-WR-CALNAME:DIOCESI DI ROMA
X-ORIGINAL-URL:https://www.diocesidiroma.it
X-WR-CALDESC:Eventi per DIOCESI DI ROMA
BEGIN:VEVENT
DTSTART;TZID=Europe/Rome:20260507T170000
DTEND;TZID=Europe/Rome:20260507T170000
DTSTAMP:20260421T000000
CREATED:20251021T102755Z
LAST-MODIFIED:20251021T102755Z
UID:38073-1778173200-1778173200@www.diocesidiroma.it
SUMMARY:Incontro di formazione dei responsabili laici dei centri filippini
DESCRIPTION:Incontro di formazione dei responsabili laici dei centri filippini (Uff. Migrantes per la pastorale della mobilità umana) \n
URL:https://www.diocesidiroma.it/event/incontro-di-formazione-dei-responsabili-laici-dei-centri-filippini-6/
CATEGORIES:In Diocesi,Iniziative degli Uffici
END:VEVENT
END:VCALENDAR