BEGIN:VCALENDAR
VERSION:2.0
PRODID:-//DIOCESI DI ROMA - ECPv4.6.14.1//NONSGML v1.0//EN
CALSCALE:GREGORIAN
METHOD:PUBLISH
X-WR-CALNAME:DIOCESI DI ROMA
X-ORIGINAL-URL:https://www.diocesidiroma.it
X-WR-CALDESC:Eventi per DIOCESI DI ROMA
BEGIN:VEVENT
DTSTART;TZID=Europe/Rome:20200305T170000
DTEND;TZID=Europe/Rome:20200305T170000
DTSTAMP:20260422T183148
CREATED:20190925T150854Z
LAST-MODIFIED:20190925T150854Z
UID:8782-1583427600-1583427600@www.diocesidiroma.it
SUMMARY:Incontro di formazione dei responsabili laici dei centri filippini a Santa Pudenziana
DESCRIPTION:Incontro di formazione dei responsabili laici dei centri filippini a Santa Pudenziana (Ufficio Migrantes). \n
URL:https://www.diocesidiroma.it/event/incontro-di-formazione-dei-responsabili-laici-dei-centri-filippini-a-santa-pudenziana/
CATEGORIES:Iniziative degli Uffici
END:VEVENT
END:VCALENDAR