BEGIN:VCALENDAR
VERSION:2.0
PRODID:-//DIOCESI DI ROMA - ECPv4.6.14.1//NONSGML v1.0//EN
CALSCALE:GREGORIAN
METHOD:PUBLISH
X-WR-CALNAME:DIOCESI DI ROMA
X-ORIGINAL-URL:https://www.diocesidiroma.it
X-WR-CALDESC:Eventi per DIOCESI DI ROMA
BEGIN:VEVENT
DTSTART;TZID=Europe/Rome:20231102T170000
DTEND;TZID=Europe/Rome:20231102T170000
DTSTAMP:20260424T145915
CREATED:20231006T084014Z
LAST-MODIFIED:20231006T084014Z
UID:27509-1698944400-1698944400@www.diocesidiroma.it
SUMMARY:Incontro di formazione dei responsabili laici dei centri filippini - Basilica di Santa Pudenziana (Uff. Migrantes)
DESCRIPTION:Incontro di formazione dei responsabili laici dei centri filippini – Basilica di Santa Pudenziana (Uff. Migrantes) \n
URL:https://www.diocesidiroma.it/event/incontro-di-formazione-dei-responsabili-laici-dei-centri-filippini-basilica-di-santa-pudenziana-uff-migrantes-4/
CATEGORIES:In Diocesi,Iniziative degli Uffici
END:VEVENT
END:VCALENDAR