BEGIN:VCALENDAR
VERSION:2.0
PRODID:-//DIOCESI DI ROMA - ECPv4.6.14.1//NONSGML v1.0//EN
CALSCALE:GREGORIAN
METHOD:PUBLISH
X-WR-CALNAME:DIOCESI DI ROMA
X-ORIGINAL-URL:https://www.diocesidiroma.it
X-WR-CALDESC:Eventi per DIOCESI DI ROMA
BEGIN:VEVENT
DTSTART;TZID=Europe/Rome:20240201T170000
DTEND;TZID=Europe/Rome:20240201T170000
DTSTAMP:20260421T235503
CREATED:20240122T110132Z
LAST-MODIFIED:20240122T110132Z
UID:28583-1706806800-1706806800@www.diocesidiroma.it
SUMMARY:Incontro di formazione dei responsabili laici dei centri filippini - Basilica di Santa Pudenziana (Uff. Migrantes)
DESCRIPTION:Incontro di formazione dei responsabili laici dei centri filippini – Basilica di Santa Pudenziana (Uff. Migrantes) \n
URL:https://www.diocesidiroma.it/event/incontro-di-formazione-dei-responsabili-laici-dei-centri-filippini-basilica-di-santa-pudenziana-uff-migrantes-7/
CATEGORIES:Iniziative degli Uffici
END:VEVENT
END:VCALENDAR