BEGIN:VCALENDAR
VERSION:2.0
PRODID:-//DIOCESI DI ROMA - ECPv4.6.14.1//NONSGML v1.0//EN
CALSCALE:GREGORIAN
METHOD:PUBLISH
X-WR-CALNAME:DIOCESI DI ROMA
X-ORIGINAL-URL:https://www.diocesidiroma.it
X-WR-CALDESC:Eventi per DIOCESI DI ROMA
BEGIN:VEVENT
DTSTART;TZID=Europe/Rome:20240307T170000
DTEND;TZID=Europe/Rome:20240307T170000
DTSTAMP:20260420T185337
CREATED:20240125T080539Z
LAST-MODIFIED:20240125T080539Z
UID:28658-1709830800-1709830800@www.diocesidiroma.it
SUMMARY:Incontro di formazione dei responsabili laici dei centri filippini - Basilica di Santa Pudenziana  (Uff. Migrantes)
DESCRIPTION:Incontro di formazione dei responsabili laici dei centri filippini – Basilica di Santa Pudenziana  (Uff. Migrantes) \n
URL:https://www.diocesidiroma.it/event/incontro-di-formazione-dei-responsabili-laici-dei-centri-filippini-basilica-di-santa-pudenziana-uff-migrantes-8/
CATEGORIES:Iniziative degli Uffici
END:VEVENT
END:VCALENDAR