BEGIN:VCALENDAR
VERSION:2.0
PRODID:-//DIOCESI DI ROMA - ECPv4.6.14.1//NONSGML v1.0//EN
CALSCALE:GREGORIAN
METHOD:PUBLISH
X-WR-CALNAME:DIOCESI DI ROMA
X-ORIGINAL-URL:https://www.diocesidiroma.it
X-WR-CALDESC:Eventi per DIOCESI DI ROMA
BEGIN:VEVENT
DTSTART;TZID=Europe/Rome:20190221T000000
DTEND;TZID=Europe/Rome:20190221T000000
DTSTAMP:20260421T105710
CREATED:20181010T072207Z
LAST-MODIFIED:20181010T072207Z
UID:4972-1550707200-1550707200@www.diocesidiroma.it
SUMMARY:Incontro di formazione di settore per cappellani
DESCRIPTION:Incontro di formazione di settore per cappellani\, a cura del Centro per la pastorale sanitaria. \n
URL:https://www.diocesidiroma.it/event/incontro-di-formazione-di-settore-per-cappellani/
CATEGORIES:Iniziative degli Uffici
END:VEVENT
END:VCALENDAR