BEGIN:VCALENDAR
VERSION:2.0
PRODID:-//DIOCESI DI ROMA - ECPv4.6.14.1//NONSGML v1.0//EN
CALSCALE:GREGORIAN
METHOD:PUBLISH
X-WR-CALNAME:DIOCESI DI ROMA
X-ORIGINAL-URL:https://www.diocesidiroma.it
X-WR-CALDESC:Eventi per DIOCESI DI ROMA
BEGIN:VEVENT
DTSTART;VALUE=DATE:20180414
DTEND;VALUE=DATE:20180415
DTSTAMP:20260425T140859
CREATED:20171228T135306Z
LAST-MODIFIED:20171228T135306Z
UID:659-1523664000-1523750399@www.diocesidiroma.it
SUMMARY:Incontro di formazione “I minori non accompagnati interpellano la Chiesa di Roma”
DESCRIPTION:
URL:https://www.diocesidiroma.it/event/incontro-di-formazione-i-minori-non-accompagnati-interpellano-la-chiesa-di-roma/
CATEGORIES:Iniziative degli Uffici
END:VEVENT
END:VCALENDAR