BEGIN:VCALENDAR
VERSION:2.0
PRODID:-//DIOCESI DI ROMA - ECPv4.6.14.1//NONSGML v1.0//EN
CALSCALE:GREGORIAN
METHOD:PUBLISH
X-WR-CALNAME:DIOCESI DI ROMA
X-ORIGINAL-URL:https://www.diocesidiroma.it
X-WR-CALDESC:Eventi per DIOCESI DI ROMA
BEGIN:VEVENT
DTSTART;VALUE=DATE:20180217
DTEND;VALUE=DATE:20180218
DTSTAMP:20260425T010517
CREATED:20171228T132933Z
LAST-MODIFIED:20171228T132933Z
UID:572-1518825600-1518911999@www.diocesidiroma.it
SUMMARY:Incontro di formazione “La geopolitica delle migrazioni”
DESCRIPTION:
URL:https://www.diocesidiroma.it/event/incontro-di-formazione-la-geopolitica-delle-migrazioni/
CATEGORIES:Iniziative degli Uffici
END:VEVENT
END:VCALENDAR