BEGIN:VCALENDAR
VERSION:2.0
PRODID:-//DIOCESI DI ROMA - ECPv4.6.14.1//NONSGML v1.0//EN
CALSCALE:GREGORIAN
METHOD:PUBLISH
X-WR-CALNAME:DIOCESI DI ROMA
X-ORIGINAL-URL:https://www.diocesidiroma.it
X-WR-CALDESC:Eventi per DIOCESI DI ROMA
BEGIN:VEVENT
DTSTART;TZID=Europe/Rome:20200219T000000
DTEND;TZID=Europe/Rome:20200219T000000
DTSTAMP:20260424T074700
CREATED:20190925T144347Z
LAST-MODIFIED:20190925T144347Z
UID:8754-1582070400-1582070400@www.diocesidiroma.it
SUMMARY:Incontro di formazione "La tutela del minore e della persona vulnerabile" in Vicariato
DESCRIPTION:Incontro di formazione “La tutela del minore e della persona vulnerabile” in Vicariato\, promosso dal Tribunale di Prima Istanza e dal Coetus Advocatorum. \n
URL:https://www.diocesidiroma.it/event/incontro-di-formazione-la-tutela-del-minore-e-della-persona-vulnerabile-in-vicariato-2/
CATEGORIES:Iniziative degli Uffici
END:VEVENT
END:VCALENDAR