BEGIN:VCALENDAR
VERSION:2.0
PRODID:-//DIOCESI DI ROMA - ECPv4.6.14.1//NONSGML v1.0//EN
CALSCALE:GREGORIAN
METHOD:PUBLISH
X-WR-CALNAME:DIOCESI DI ROMA
X-ORIGINAL-URL:https://www.diocesidiroma.it
X-WR-CALDESC:Eventi per DIOCESI DI ROMA
BEGIN:VEVENT
DTSTART;VALUE=DATE:20180120
DTEND;VALUE=DATE:20180121
DTSTAMP:20260425T115358
CREATED:20171228T122104Z
LAST-MODIFIED:20171228T122104Z
UID:524-1516406400-1516492799@www.diocesidiroma.it
SUMMARY:Incontro di formazione “Le motivazioni di migrazione dei minori e la tratta”
DESCRIPTION:
URL:https://www.diocesidiroma.it/event/incontro-di-formazione-le-motivazioni-di-migrazione-dei-minori-e-la-tratta/
CATEGORIES:Iniziative degli Uffici
END:VEVENT
END:VCALENDAR