BEGIN:VCALENDAR
VERSION:2.0
PRODID:-//DIOCESI DI ROMA - ECPv4.6.14.1//NONSGML v1.0//EN
CALSCALE:GREGORIAN
METHOD:PUBLISH
X-WR-CALNAME:DIOCESI DI ROMA
X-ORIGINAL-URL:https://www.diocesidiroma.it
X-WR-CALDESC:Eventi per DIOCESI DI ROMA
BEGIN:VEVENT
DTSTART;TZID=Europe/Rome:20190613T000000
DTEND;TZID=Europe/Rome:20190613T000000
DTSTAMP:20260420T170105
CREATED:20181023T133330Z
LAST-MODIFIED:20181023T133330Z
UID:5285-1560384000-1560384000@www.diocesidiroma.it
SUMMARY:Incontro di formazione per cappellani
DESCRIPTION:Incontro di formazione per cappellani\, a cura del Centro per la pastorale sanitaria. \n
URL:https://www.diocesidiroma.it/event/incontro-di-formazione-per-cappellani-2/
CATEGORIES:Iniziative degli Uffici
END:VEVENT
END:VCALENDAR