BEGIN:VCALENDAR
VERSION:2.0
PRODID:-//DIOCESI DI ROMA - ECPv4.6.14.1//NONSGML v1.0//EN
CALSCALE:GREGORIAN
METHOD:PUBLISH
X-WR-CALNAME:DIOCESI DI ROMA
X-ORIGINAL-URL:https://www.diocesidiroma.it
X-WR-CALDESC:Eventi per DIOCESI DI ROMA
BEGIN:VEVENT
DTSTART;TZID=Europe/Rome:20200208T093000
DTEND;TZID=Europe/Rome:20200208T130000
DTSTAMP:20260422T023649
CREATED:20190925T142229Z
LAST-MODIFIED:20190925T142229Z
UID:8724-1581154200-1581166800@www.diocesidiroma.it
SUMMARY:Incontro di formazione per catechisti dei catecumeni al Pontificio Seminario Romano Maggiore
DESCRIPTION:Incontro di formazione per catechisti dei catecumeni al Pontificio Seminario Romano Maggiore\, a cura del Servizio per il catecumenato. \n
URL:https://www.diocesidiroma.it/event/incontro-di-formazione-per-catechisti-dei-catecumeni-al-pontificio-seminario-romano-maggiore/
CATEGORIES:Iniziative degli Uffici
END:VEVENT
END:VCALENDAR