BEGIN:VCALENDAR
VERSION:2.0
PRODID:-//DIOCESI DI ROMA - ECPv4.6.14.1//NONSGML v1.0//EN
CALSCALE:GREGORIAN
METHOD:PUBLISH
X-WR-CALNAME:DIOCESI DI ROMA
X-ORIGINAL-URL:https://www.diocesidiroma.it
X-WR-CALDESC:Eventi per DIOCESI DI ROMA
BEGIN:VEVENT
DTSTART;VALUE=DATE:20251201
DTEND;VALUE=DATE:20251202
DTSTAMP:20260421T075621
CREATED:20250911T060938Z
LAST-MODIFIED:20250911T060938Z
UID:37033-1764547200-1764633599@www.diocesidiroma.it
SUMMARY:Incontro di formazione per Esorcisti e Sacerdoti 1° ascolto (Uff. per la formazione liturgica e la celebrazione dei Sacramenti)
DESCRIPTION:Incontro di formazione per Esorcisti e Sacerdoti 1° ascolto (Uff. per la formazione liturgica e la celebrazione dei Sacramenti) \n
URL:https://www.diocesidiroma.it/event/incontro-di-formazione-per-esorcisti-e-sacerdoti-1-ascolto-uff-per-la-formazione-liturgica-e-la-celebrazione-dei-sacramenti/
CATEGORIES:In Diocesi,Iniziative degli Uffici
END:VEVENT
END:VCALENDAR