BEGIN:VCALENDAR
VERSION:2.0
PRODID:-//DIOCESI DI ROMA - ECPv4.6.14.1//NONSGML v1.0//EN
CALSCALE:GREGORIAN
METHOD:PUBLISH
X-WR-CALNAME:DIOCESI DI ROMA
X-ORIGINAL-URL:https://www.diocesidiroma.it
X-WR-CALDESC:Eventi per DIOCESI DI ROMA
BEGIN:VEVENT
DTSTART;TZID=Europe/Rome:20191127T100000
DTEND;TZID=Europe/Rome:20191127T120000
DTSTAMP:20260421T234103
CREATED:20190917T125512Z
LAST-MODIFIED:20190917T125512Z
UID:8575-1574848800-1574856000@www.diocesidiroma.it
SUMMARY:Incontro di formazione per i cappellani a cura del Centro per la pastorale sanitaria
DESCRIPTION:Incontro di formazione per i cappellani a cura del Centro per la pastorale sanitaria\, in Vicariato. \n
URL:https://www.diocesidiroma.it/event/incontro-di-formazione-per-i-cappellani-a-cura-del-centro-per-la-pastorale-sanitaria/
CATEGORIES:Iniziative degli Uffici
END:VEVENT
END:VCALENDAR