BEGIN:VCALENDAR
VERSION:2.0
PRODID:-//DIOCESI DI ROMA - ECPv4.6.14.1//NONSGML v1.0//EN
CALSCALE:GREGORIAN
METHOD:PUBLISH
X-WR-CALNAME:DIOCESI DI ROMA
X-ORIGINAL-URL:https://www.diocesidiroma.it
X-WR-CALDESC:Eventi per DIOCESI DI ROMA
BEGIN:VEVENT
DTSTART;TZID=Europe/Rome:20190117T000000
DTEND;TZID=Europe/Rome:20190117T000000
DTSTAMP:20260421T110327
CREATED:20181009T070304Z
LAST-MODIFIED:20181009T070304Z
UID:4898-1547683200-1547683200@www.diocesidiroma.it
SUMMARY:Incontro di formazione per i cappellani sanitari
DESCRIPTION:Incontro di formazione per i cappellani sanitari\, a cura del Centro per la pastorale sanitaria.  \n
URL:https://www.diocesidiroma.it/event/incontro-di-formazione-per-i-cappellani-sanitari/
CATEGORIES:Iniziative degli Uffici
END:VEVENT
END:VCALENDAR