BEGIN:VCALENDAR
VERSION:2.0
PRODID:-//DIOCESI DI ROMA - ECPv4.6.14.1//NONSGML v1.0//EN
CALSCALE:GREGORIAN
METHOD:PUBLISH
X-WR-CALNAME:DIOCESI DI ROMA
X-ORIGINAL-URL:https://www.diocesidiroma.it
X-WR-CALDESC:Eventi per DIOCESI DI ROMA
BEGIN:VEVENT
DTSTART;TZID=Europe/Rome:20231204T093000
DTEND;TZID=Europe/Rome:20231204T093000
DTSTAMP:20260423T201713
CREATED:20231024T124032Z
LAST-MODIFIED:20231024T124040Z
UID:27726-1701682200-1701682200@www.diocesidiroma.it
SUMMARY:Incontro di formazione per i cappellani universitari e le suore collaboratrici guidato da S.E. Mons. Daniele Libanori (Uff. per la pastorale universitaria)
DESCRIPTION:Incontro di formazione per i cappellani universitari e le suore collaboratrici guidato da S.E. Mons. Daniele Libanori (Uff. per la pastorale universitaria) \n
URL:https://www.diocesidiroma.it/event/incontro-di-formazione-per-i-cappellani-universitari-e-le-suore-collaboratrici-guidato-da-s-e-mons-daniele-libanori-uff-per-la-pastorale-universitaria/
CATEGORIES:In Diocesi,Iniziative degli Uffici
END:VEVENT
END:VCALENDAR