BEGIN:VCALENDAR
VERSION:2.0
PRODID:-//DIOCESI DI ROMA - ECPv4.6.14.1//NONSGML v1.0//EN
CALSCALE:GREGORIAN
METHOD:PUBLISH
X-WR-CALNAME:DIOCESI DI ROMA
X-ORIGINAL-URL:https://www.diocesidiroma.it
X-WR-CALDESC:Eventi per DIOCESI DI ROMA
BEGIN:VEVENT
DTSTART;TZID=Europe/Rome:20260516T100000
DTEND;TZID=Europe/Rome:20260516T120000
DTSTAMP:20260421T040257
CREATED:20251021T110131Z
LAST-MODIFIED:20251021T110131Z
UID:38106-1778925600-1778932800@www.diocesidiroma.it
SUMMARY:Incontro di formazione per i catechisti dei battesimi
DESCRIPTION:Incontro di formazione per i catechisti dei battesimi  \n
URL:https://www.diocesidiroma.it/event/incontro-di-formazione-per-i-catechisti-dei-battesimi/
CATEGORIES:In Diocesi,Iniziative degli Uffici
END:VEVENT
END:VCALENDAR