BEGIN:VCALENDAR
VERSION:2.0
PRODID:-//DIOCESI DI ROMA - ECPv4.6.14.1//NONSGML v1.0//EN
CALSCALE:GREGORIAN
METHOD:PUBLISH
X-WR-CALNAME:DIOCESI DI ROMA
X-ORIGINAL-URL:https://www.diocesidiroma.it
X-WR-CALDESC:Eventi per DIOCESI DI ROMA
BEGIN:VEVENT
DTSTART;TZID=Europe/Rome:20231021T093000
DTEND;TZID=Europe/Rome:20231021T123000
DTSTAMP:20260421T154123
CREATED:20231006T082154Z
LAST-MODIFIED:20231006T082154Z
UID:27479-1697880600-1697891400@www.diocesidiroma.it
SUMMARY:Incontro di formazione per i catechisti dei catecumeni - Pontificio Seminario Romano Maggiore (Uff. catecumenato)
DESCRIPTION:Incontro di formazione per i catechisti dei catecumeni – Pontificio Seminario Romano Maggiore (Uff. catecumenato) \n
URL:https://www.diocesidiroma.it/event/incontro-di-formazione-per-i-catechisti-dei-catecumeni-pontificio-seminario-romano-maggiore-uff-catecumenato/
CATEGORIES:In Diocesi,Iniziative degli Uffici
END:VEVENT
END:VCALENDAR