BEGIN:VCALENDAR
VERSION:2.0
PRODID:-//DIOCESI DI ROMA - ECPv4.6.14.1//NONSGML v1.0//EN
CALSCALE:GREGORIAN
METHOD:PUBLISH
X-WR-CALNAME:DIOCESI DI ROMA
X-ORIGINAL-URL:https://www.diocesidiroma.it
X-WR-CALDESC:Eventi per DIOCESI DI ROMA
BEGIN:VEVENT
DTSTART;TZID=Europe/Rome:20221022T100000
DTEND;TZID=Europe/Rome:20221022T123000
DTSTAMP:20260424T062424
CREATED:20221013T110733Z
LAST-MODIFIED:20221013T110745Z
UID:23337-1666432800-1666441800@www.diocesidiroma.it
SUMMARY:Incontro di formazione per i catechisti dei catecumeni - Sala Conferenze del Pontificio Seminario Romano Maggiore (Serv. Catecumenato)
DESCRIPTION:Incontro di formazione per i catechisti dei catecumeni – Sala Conferenze del Pontificio Seminario Romano Maggiore (Serv. Catecumenato) \n
URL:https://www.diocesidiroma.it/event/incontro-di-formazione-per-i-catechisti-dei-catecumeni-sala-conferenze-del-pontificio-seminario-romano-maggiore-serv-catecumenato/
CATEGORIES:In Diocesi,Iniziative degli Uffici
END:VEVENT
END:VCALENDAR