BEGIN:VCALENDAR
VERSION:2.0
PRODID:-//DIOCESI DI ROMA - ECPv4.6.14.1//NONSGML v1.0//EN
CALSCALE:GREGORIAN
METHOD:PUBLISH
X-WR-CALNAME:DIOCESI DI ROMA
X-ORIGINAL-URL:https://www.diocesidiroma.it
X-WR-CALDESC:Eventi per DIOCESI DI ROMA
BEGIN:VEVENT
DTSTART;TZID=Europe/Rome:20190131T183000
DTEND;TZID=Europe/Rome:20190131T183000
DTSTAMP:20260424T142421
CREATED:20181009T071853Z
LAST-MODIFIED:20181009T071853Z
UID:4918-1548959400-1548959400@www.diocesidiroma.it
SUMMARY:Incontro di formazione per i missionari in ambienti di lavoro
DESCRIPTION:Incontro di formazione per i missionari in ambienti di lavoro\, a cura dell’Ufficio per la pastorale sociale.  \n
URL:https://www.diocesidiroma.it/event/incontro-di-formazione-per-i-missionari-in-ambienti-di-lavoro/
CATEGORIES:Iniziative degli Uffici
END:VEVENT
END:VCALENDAR