BEGIN:VCALENDAR
VERSION:2.0
PRODID:-//DIOCESI DI ROMA - ECPv4.6.14.1//NONSGML v1.0//EN
CALSCALE:GREGORIAN
METHOD:PUBLISH
X-WR-CALNAME:DIOCESI DI ROMA
X-ORIGINAL-URL:https://www.diocesidiroma.it
X-WR-CALDESC:Eventi per DIOCESI DI ROMA
BEGIN:VEVENT
DTSTART;TZID=Europe/Rome:20201013T100000
DTEND;TZID=Europe/Rome:20201013T100000
DTSTAMP:20260421T043217
CREATED:20200917T081109Z
LAST-MODIFIED:20200928T115210Z
UID:11661-1602583200-1602583200@www.diocesidiroma.it
SUMMARY:Incontro di formazione per il clero sulla nuova edizione del Messale con monsignor Claudio Maniago
DESCRIPTION:Incontro di formazione per il clero sulla nuova edizione del Messale con monsignor Claudio Maniago nella basilica di San Giovanni in Laterano \n
URL:https://www.diocesidiroma.it/event/incontro-di-formazione-per-il-clero-sulla-nuova-edizione-del-messale-con-monsignor-claudio-maniago/
CATEGORIES:In Diocesi
END:VEVENT
END:VCALENDAR