BEGIN:VCALENDAR
VERSION:2.0
PRODID:-//DIOCESI DI ROMA - ECPv4.6.14.1//NONSGML v1.0//EN
CALSCALE:GREGORIAN
METHOD:PUBLISH
X-WR-CALNAME:DIOCESI DI ROMA
X-ORIGINAL-URL:https://www.diocesidiroma.it
X-WR-CALDESC:Eventi per DIOCESI DI ROMA
BEGIN:VEVENT
DTSTART;TZID=Europe/Rome:20241110T153000
DTEND;TZID=Europe/Rome:20241110T153000
DTSTAMP:20260423T181409
CREATED:20240823T064607Z
LAST-MODIFIED:20240823T064607Z
UID:30639-1731252600-1731252600@www.diocesidiroma.it
SUMMARY:Incontro di formazione per le consacrate impegnate nella pastorale sanitaria - Sala Conferenze del Pontificio Seminario Romano Maggiore (Uff. past. sanitaria)
DESCRIPTION:Incontro di formazione per le consacrate impegnate nella pastorale sanitaria – Sala Conferenze del Pontificio Seminario Romano Maggiore (Uff. past. sanitaria) \n
URL:https://www.diocesidiroma.it/event/incontro-di-formazione-per-le-consacrate-impegnate-nella-pastorale-sanitaria-sala-conferenze-del-pontificio-seminario-romano-maggiore-uff-past-sanitaria/
CATEGORIES:In Diocesi,Iniziative degli Uffici
END:VEVENT
END:VCALENDAR