BEGIN:VCALENDAR
VERSION:2.0
PRODID:-//DIOCESI DI ROMA - ECPv4.6.14.1//NONSGML v1.0//EN
CALSCALE:GREGORIAN
METHOD:PUBLISH
X-WR-CALNAME:DIOCESI DI ROMA
X-ORIGINAL-URL:https://www.diocesidiroma.it
X-WR-CALDESC:Eventi per DIOCESI DI ROMA
BEGIN:VEVENT
DTSTART;TZID=Europe/Rome:20250208T100000
DTEND;TZID=Europe/Rome:20250208T123000
DTSTAMP:20260422T022210
CREATED:20250115T104912Z
LAST-MODIFIED:20250115T104912Z
UID:33238-1739008800-1739017800@www.diocesidiroma.it
SUMMARY:Incontro di formazione permanente per le realtà del doposcuola e sostegno allo studio
DESCRIPTION:Incontro di formazione permanente per le realtà del doposcuola e sostegno allo studio \n
URL:https://www.diocesidiroma.it/event/incontro-di-formazione-permanente-per-le-realta-del-doposcuola-e-sostegno-allo-studio/
CATEGORIES:Iniziative degli Uffici
END:VEVENT
END:VCALENDAR