BEGIN:VCALENDAR
VERSION:2.0
PRODID:-//DIOCESI DI ROMA - ECPv4.6.14.1//NONSGML v1.0//EN
CALSCALE:GREGORIAN
METHOD:PUBLISH
X-WR-CALNAME:DIOCESI DI ROMA
X-ORIGINAL-URL:https://www.diocesidiroma.it
X-WR-CALDESC:Eventi per DIOCESI DI ROMA
BEGIN:VEVENT
DTSTART;TZID=Europe/Rome:20190316T000000
DTEND;TZID=Europe/Rome:20190316T000000
DTSTAMP:20260421T003930
CREATED:20181011T075948Z
LAST-MODIFIED:20181011T075948Z
UID:5010-1552694400-1552694400@www.diocesidiroma.it
SUMMARY:Incontro di formazione
DESCRIPTION:Incontro di formazione a cura dell’Ufficio Migrantes e del Centro missionario.  \n
URL:https://www.diocesidiroma.it/event/incontro-di-formazione/
CATEGORIES:Iniziative degli Uffici
END:VEVENT
END:VCALENDAR