BEGIN:VCALENDAR
VERSION:2.0
PRODID:-//DIOCESI DI ROMA - ECPv4.6.14.1//NONSGML v1.0//EN
CALSCALE:GREGORIAN
METHOD:PUBLISH
X-WR-CALNAME:DIOCESI DI ROMA
X-ORIGINAL-URL:https://www.diocesidiroma.it
X-WR-CALDESC:Eventi per DIOCESI DI ROMA
BEGIN:VEVENT
DTSTART;TZID=Europe/Rome:20200217T190000
DTEND;TZID=Europe/Rome:20200217T190000
DTSTAMP:20260420T234643
CREATED:20190925T143432Z
LAST-MODIFIED:20190925T143432Z
UID:8742-1581966000-1581966000@www.diocesidiroma.it
SUMMARY:Incontro di preghiera a partire dal testo della Costituzione italiana a Santa Maria ai Monti
DESCRIPTION:Incontro di preghiera a partire dal testo della Costituzione italiana a Santa Maria ai Monti\, a cura del Servizio per la pastorale sociale. \n
URL:https://www.diocesidiroma.it/event/incontro-di-preghiera-a-partire-dal-testo-della-costituzione-italiana-a-santa-maria-ai-monti/
CATEGORIES:Iniziative degli Uffici
END:VEVENT
END:VCALENDAR