BEGIN:VCALENDAR
VERSION:2.0
PRODID:-//DIOCESI DI ROMA - ECPv4.6.14.1//NONSGML v1.0//EN
CALSCALE:GREGORIAN
METHOD:PUBLISH
X-WR-CALNAME:DIOCESI DI ROMA
X-ORIGINAL-URL:https://www.diocesidiroma.it
X-WR-CALDESC:Eventi per DIOCESI DI ROMA
BEGIN:VEVENT
DTSTART;VALUE=DATE:20180525
DTEND;VALUE=DATE:20180526
DTSTAMP:20260422T004344
CREATED:20171228T141004Z
LAST-MODIFIED:20171228T141004Z
UID:714-1527206400-1527292799@www.diocesidiroma.it
SUMMARY:Incontro di preghiera e verifica – gruppi dei genitori degli adolescenti
DESCRIPTION:
URL:https://www.diocesidiroma.it/event/incontro-di-preghiera-e-verifica-gruppi-dei-genitori-degli-adolescenti/
CATEGORIES:Iniziative degli Uffici
END:VEVENT
END:VCALENDAR