BEGIN:VCALENDAR
VERSION:2.0
PRODID:-//DIOCESI DI ROMA - ECPv4.6.14.1//NONSGML v1.0//EN
CALSCALE:GREGORIAN
METHOD:PUBLISH
X-WR-CALNAME:DIOCESI DI ROMA
X-ORIGINAL-URL:https://www.diocesidiroma.it
X-WR-CALDESC:Eventi per DIOCESI DI ROMA
BEGIN:VEVENT
DTSTART;VALUE=DATE:20180322
DTEND;VALUE=DATE:20180323
DTSTAMP:20260424T113042
CREATED:20171228T134059Z
LAST-MODIFIED:20171228T134059Z
UID:616-1521676800-1521763199@www.diocesidiroma.it
SUMMARY:Incontro di preghiera in memoria dei Missionari Martiri
DESCRIPTION:
URL:https://www.diocesidiroma.it/event/incontro-di-preghiera-in-memoria-dei-missionari-martiri/
CATEGORIES:Iniziative degli Uffici
END:VEVENT
END:VCALENDAR