BEGIN:VCALENDAR
VERSION:2.0
PRODID:-//DIOCESI DI ROMA - ECPv4.6.14.1//NONSGML v1.0//EN
CALSCALE:GREGORIAN
METHOD:PUBLISH
X-WR-CALNAME:DIOCESI DI ROMA
X-ORIGINAL-URL:https://www.diocesidiroma.it
X-WR-CALDESC:Eventi per DIOCESI DI ROMA
BEGIN:VEVENT
DTSTART;TZID=Europe/Rome:20181203T193000
DTEND;TZID=Europe/Rome:20181203T193000
DTSTAMP:20260423T201459
CREATED:20180918T122800Z
LAST-MODIFIED:20180918T122800Z
UID:4645-1543865400-1543865400@www.diocesidiroma.it
SUMMARY:Incontro di preghiera sulla Costituzione a Santa Maria ai Monti
DESCRIPTION:Incontro di preghiera a partire dal testo della Costituzione italiana presso la parrocchia di Santa Maria ai Monti\, a cura dell’Ufficio scuola \n
URL:https://www.diocesidiroma.it/event/incontro-di-preghiera-sulla-costituzione-a-santa-maria-ai-monti/
CATEGORIES:Iniziative degli Uffici
END:VEVENT
END:VCALENDAR