BEGIN:VCALENDAR
VERSION:2.0
PRODID:-//DIOCESI DI ROMA - ECPv4.6.14.1//NONSGML v1.0//EN
CALSCALE:GREGORIAN
METHOD:PUBLISH
X-WR-CALNAME:DIOCESI DI ROMA
X-ORIGINAL-URL:https://www.diocesidiroma.it
X-WR-CALDESC:Eventi per DIOCESI DI ROMA
BEGIN:VEVENT
DTSTART;TZID=Europe/Rome:20240303T093000
DTEND;TZID=Europe/Rome:20240303T093000
DTSTAMP:20260421T090202
CREATED:20240125T075508Z
LAST-MODIFIED:20240125T075508Z
UID:28648-1709458200-1709458200@www.diocesidiroma.it
SUMMARY:Incontro di Quaresima per i docenti - ore 9.30 (Uff. past. universitaria)
DESCRIPTION:Incontro di Quaresima per i docenti (Uff. past. universitaria) \n
URL:https://www.diocesidiroma.it/event/incontro-di-quaresima-per-i-docenti-ore-9-30-uff-past-universitaria/
CATEGORIES:Iniziative degli Uffici
END:VEVENT
END:VCALENDAR