BEGIN:VCALENDAR
VERSION:2.0
PRODID:-//DIOCESI DI ROMA - ECPv4.6.14.1//NONSGML v1.0//EN
CALSCALE:GREGORIAN
METHOD:PUBLISH
X-WR-CALNAME:DIOCESI DI ROMA
X-ORIGINAL-URL:https://www.diocesidiroma.it
X-WR-CALDESC:Eventi per DIOCESI DI ROMA
BEGIN:VEVENT
DTSTART;VALUE=DATE:20180301
DTEND;VALUE=DATE:20180302
DTSTAMP:20260424T145708
CREATED:20171228T133257Z
LAST-MODIFIED:20171228T133257Z
UID:586-1519862400-1519948799@www.diocesidiroma.it
SUMMARY:Incontro di riflessione “I martiri dei nostri tempi”
DESCRIPTION:
URL:https://www.diocesidiroma.it/event/incontro-di-riflessione-i-martiri-dei-nostri-tempi/
CATEGORIES:Iniziative degli Uffici
END:VEVENT
END:VCALENDAR