BEGIN:VCALENDAR
VERSION:2.0
PRODID:-//DIOCESI DI ROMA - ECPv4.6.14.1//NONSGML v1.0//EN
CALSCALE:GREGORIAN
METHOD:PUBLISH
X-WR-CALNAME:DIOCESI DI ROMA
X-ORIGINAL-URL:https://www.diocesidiroma.it
X-WR-CALDESC:Eventi per DIOCESI DI ROMA
BEGIN:VEVENT
DTSTART;TZID=Europe/Rome:20240316T100000
DTEND;TZID=Europe/Rome:20240316T123000
DTSTAMP:20260424T020432
CREATED:20240125T082148Z
LAST-MODIFIED:20240125T082148Z
UID:28679-1710583200-1710592200@www.diocesidiroma.it
SUMMARY:Incontro diocesano su "Catechesi e disabilità" e presentazione del relativo Vademecum  (uff. catechesi)
DESCRIPTION:Incontro diocesano su “Catechesi e disabilità” e presentazione del relativo Vademecum  (uff. catechesi) \n
URL:https://www.diocesidiroma.it/event/incontro-diocesano-su-catechesi-e-disabilita-e-presentazione-del-relativo-vademecum-uff-catechesi/
CATEGORIES:Iniziative degli Uffici
END:VEVENT
END:VCALENDAR