BEGIN:VCALENDAR
VERSION:2.0
PRODID:-//DIOCESI DI ROMA - ECPv4.6.14.1//NONSGML v1.0//EN
CALSCALE:GREGORIAN
METHOD:PUBLISH
X-WR-CALNAME:DIOCESI DI ROMA
X-ORIGINAL-URL:https://www.diocesidiroma.it
X-WR-CALDESC:Eventi per DIOCESI DI ROMA
BEGIN:VEVENT
DTSTART;TZID=Europe/Rome:20190311T000000
DTEND;TZID=Europe/Rome:20190311T000000
DTSTAMP:20260421T053049
CREATED:20181011T075117Z
LAST-MODIFIED:20181011T075117Z
UID:5002-1552262400-1552262400@www.diocesidiroma.it
SUMMARY:Incontro direttori e direttrici dei collegi universitari
DESCRIPTION:Incontro direttori e direttrici dei collegi universitari\, a cura del Servizio cultura e università. \n
URL:https://www.diocesidiroma.it/event/incontro-direttori-e-direttrici-dei-collegi-universitari/
CATEGORIES:Iniziative degli Uffici
END:VEVENT
END:VCALENDAR