BEGIN:VCALENDAR
VERSION:2.0
PRODID:-//DIOCESI DI ROMA - ECPv4.6.14.1//NONSGML v1.0//EN
CALSCALE:GREGORIAN
METHOD:PUBLISH
X-WR-CALNAME:DIOCESI DI ROMA
X-ORIGINAL-URL:https://www.diocesidiroma.it
X-WR-CALDESC:Eventi per DIOCESI DI ROMA
BEGIN:VEVENT
DTSTART;TZID=Europe/Rome:20240128T153000
DTEND;TZID=Europe/Rome:20240128T170000
DTSTAMP:20260421T073950
CREATED:20240112T080934Z
LAST-MODIFIED:20240112T080934Z
UID:28438-1706455800-1706461200@www.diocesidiroma.it
SUMMARY:Incontro Formativo Consacrate Seminario Romano Maggiore -Sala Conferenze – (Uff. past. Sanitaria)
DESCRIPTION:Incontro Formativo Consacrate Seminario Romano Maggiore -Sala Conferenze – (Uff. past. Sanitaria) \n
URL:https://www.diocesidiroma.it/event/incontro-formativo-consacrate-seminario-romano-maggiore-sala-conferenze-uff-past-sanitaria/
CATEGORIES:Iniziative degli Uffici
END:VEVENT
END:VCALENDAR