BEGIN:VCALENDAR
VERSION:2.0
PRODID:-//DIOCESI DI ROMA - ECPv4.6.14.1//NONSGML v1.0//EN
CALSCALE:GREGORIAN
METHOD:PUBLISH
X-WR-CALNAME:DIOCESI DI ROMA
X-ORIGINAL-URL:https://www.diocesidiroma.it
X-WR-CALDESC:Eventi per DIOCESI DI ROMA
BEGIN:VEVENT
DTSTART;TZID=Europe/Rome:20251023T100000
DTEND;TZID=Europe/Rome:20251023T123000
DTSTAMP:20260423T223121
CREATED:20250910T110338Z
LAST-MODIFIED:20250910T110338Z
UID:36932-1761213600-1761222600@www.diocesidiroma.it
SUMMARY:Incontro formativo dei Cappellani presso Sala Card. Poletti del Vicariato (Uff. per la Pastorale della salute)
DESCRIPTION:Incontro formativo dei Cappellani presso Sala Card. Poletti del Vicariato (Uff. per la Pastorale della salute) \n
URL:https://www.diocesidiroma.it/event/incontro-formativo-dei-cappellani-presso-sala-card-poletti-del-vicariato-uff-per-la-pastorale-della-salute/
CATEGORIES:In Diocesi,Iniziative degli Uffici
END:VEVENT
END:VCALENDAR