BEGIN:VCALENDAR
VERSION:2.0
PRODID:-//DIOCESI DI ROMA - ECPv4.6.14.1//NONSGML v1.0//EN
CALSCALE:GREGORIAN
METHOD:PUBLISH
X-WR-CALNAME:DIOCESI DI ROMA
X-ORIGINAL-URL:https://www.diocesidiroma.it
X-WR-CALDESC:Eventi per DIOCESI DI ROMA
BEGIN:VEVENT
DTSTART;TZID=Europe/Rome:20260125T153000
DTEND;TZID=Europe/Rome:20260125T173000
DTSTAMP:20260422T115603
CREATED:20250911T092549Z
LAST-MODIFIED:20250911T095155Z
UID:37137-1769355000-1769362200@www.diocesidiroma.it
SUMMARY:Incontro formativo delle Religiose presso la Sala Conferenze del Seminario Romano Maggiore (Uff. per la Pastorale della salute)
DESCRIPTION:Incontro formativo delle Religiose presso la Sala Conferenze del Seminario Romano Maggiore (Uff. per la Pastorale della salute) \n
URL:https://www.diocesidiroma.it/event/incontro-formativo-delle-religiose-presso-la-sala-conferenze-del-seminario-romano-maggiore-uff-per-la-pastorale-della-salute/
CATEGORIES:In Diocesi,Iniziative degli Uffici
END:VEVENT
END:VCALENDAR