BEGIN:VCALENDAR
VERSION:2.0
PRODID:-//DIOCESI DI ROMA - ECPv4.6.14.1//NONSGML v1.0//EN
CALSCALE:GREGORIAN
METHOD:PUBLISH
X-WR-CALNAME:DIOCESI DI ROMA
X-ORIGINAL-URL:https://www.diocesidiroma.it
X-WR-CALDESC:Eventi per DIOCESI DI ROMA
BEGIN:VEVENT
DTSTART;TZID=Europe/Rome:20231221T100000
DTEND;TZID=Europe/Rome:20231221T100000
DTSTAMP:20260424T063934
CREATED:20231108T073624Z
LAST-MODIFIED:20231108T073624Z
UID:27837-1703152800-1703152800@www.diocesidiroma.it
SUMMARY:Incontro formativo di tutti i cappellani in Vicariato (Uff. Past. Sanitaria)
DESCRIPTION:Incontro formativo di tutti i cappellani in Vicariato (Uff. Past. Sanitaria) \n
URL:https://www.diocesidiroma.it/event/incontro-formativo-di-tutti-i-cappellani-in-vicariato-uff-past-sanitaria/
CATEGORIES:In Diocesi,Iniziative degli Uffici
END:VEVENT
END:VCALENDAR