BEGIN:VCALENDAR
VERSION:2.0
PRODID:-//DIOCESI DI ROMA - ECPv4.6.14.1//NONSGML v1.0//EN
CALSCALE:GREGORIAN
METHOD:PUBLISH
X-WR-CALNAME:DIOCESI DI ROMA
X-ORIGINAL-URL:https://www.diocesidiroma.it
X-WR-CALDESC:Eventi per DIOCESI DI ROMA
BEGIN:VEVENT
DTSTART;TZID=Europe/Rome:20231112T153000
DTEND;TZID=Europe/Rome:20231112T153000
DTSTAMP:20260421T043053
CREATED:20231108T073111Z
LAST-MODIFIED:20231108T073111Z
UID:27825-1699803000-1699803000@www.diocesidiroma.it
SUMMARY:Incontro formativo per le consacrate al Seminario Maggiore (Uff. Past. Sanitaria)
DESCRIPTION:Incontro formativo per le consacrate al Seminario Maggiore (Uff. Past. Sanitaria) \n
URL:https://www.diocesidiroma.it/event/incontro-formativo-per-le-consacrate-al-seminario-maggiore-uff-past-sanitaria/
CATEGORIES:In Diocesi,Iniziative degli Uffici
END:VEVENT
END:VCALENDAR