BEGIN:VCALENDAR
VERSION:2.0
PRODID:-//DIOCESI DI ROMA - ECPv4.6.14.1//NONSGML v1.0//EN
CALSCALE:GREGORIAN
METHOD:PUBLISH
X-WR-CALNAME:DIOCESI DI ROMA
X-ORIGINAL-URL:https://www.diocesidiroma.it
X-WR-CALDESC:Eventi per DIOCESI DI ROMA
BEGIN:VEVENT
DTSTART;VALUE=DATE:20260126
DTEND;VALUE=DATE:20260127
DTSTAMP:20260422T161939
CREATED:20250911T093039Z
LAST-MODIFIED:20250911T093039Z
UID:37143-1769385600-1769471999@www.diocesidiroma.it
SUMMARY:Incontro formativo per rinnovo mandato Accoliti e Lettori (Ufficio per la formazione liturgica e la celebrazione dei sacramenti)
DESCRIPTION:Incontro formativo per rinnovo mandato Accoliti e Lettori (Ufficio per la formazione liturgica e la celebrazione dei sacramenti) \n
URL:https://www.diocesidiroma.it/event/incontro-formativo-per-rinnovo-mandato-accoliti-e-lettori-ufficio-per-la-formazione-liturgica-e-la-celebrazione-dei-sacramenti-2/
CATEGORIES:In Diocesi,Iniziative degli Uffici
END:VEVENT
END:VCALENDAR