BEGIN:VCALENDAR
VERSION:2.0
PRODID:-//DIOCESI DI ROMA - ECPv4.6.14.1//NONSGML v1.0//EN
CALSCALE:GREGORIAN
METHOD:PUBLISH
X-WR-CALNAME:DIOCESI DI ROMA
X-ORIGINAL-URL:https://www.diocesidiroma.it
X-WR-CALDESC:Eventi per DIOCESI DI ROMA
BEGIN:VEVENT
DTSTART;VALUE=DATE:20260119
DTEND;VALUE=DATE:20260120
DTSTAMP:20260422T161939
CREATED:20250911T090707Z
LAST-MODIFIED:20250911T090707Z
UID:37119-1768780800-1768867199@www.diocesidiroma.it
SUMMARY:Incontro formativo per rinnovo mandato Accoliti e Lettori (Ufficio per la formazione liturgica e la celebrazione dei Sacramenti)
DESCRIPTION:Incontro formativo per rinnovo mandato Accoliti e Lettori (Ufficio per la formazione liturgica e la celebrazione dei Sacramenti) \n
URL:https://www.diocesidiroma.it/event/incontro-formativo-per-rinnovo-mandato-accoliti-e-lettori-ufficio-per-la-formazione-liturgica-e-la-celebrazione-dei-sacramenti/
CATEGORIES:In Diocesi,Iniziative degli Uffici
END:VEVENT
END:VCALENDAR