BEGIN:VCALENDAR
VERSION:2.0
PRODID:-//DIOCESI DI ROMA - ECPv4.6.14.1//NONSGML v1.0//EN
CALSCALE:GREGORIAN
METHOD:PUBLISH
X-WR-CALNAME:DIOCESI DI ROMA
X-ORIGINAL-URL:https://www.diocesidiroma.it
X-WR-CALDESC:Eventi per DIOCESI DI ROMA
BEGIN:VEVENT
DTSTART;TZID=Europe/Rome:20260609T180000
DTEND;TZID=Europe/Rome:20260609T200000
DTSTAMP:20260421T032131
CREATED:20251030T121519Z
LAST-MODIFIED:20251030T121519Z
UID:38293-1781028000-1781035200@www.diocesidiroma.it
SUMMARY:Incontro formazione volontariato diocesano
DESCRIPTION:Incontro formazione volontariato diocesano  (Uff. Pastorale Familiare) \n
URL:https://www.diocesidiroma.it/event/incontro-formazione-volontariato-diocesano-5/
END:VEVENT
END:VCALENDAR