BEGIN:VCALENDAR
VERSION:2.0
PRODID:-//DIOCESI DI ROMA - ECPv4.6.14.1//NONSGML v1.0//EN
CALSCALE:GREGORIAN
METHOD:PUBLISH
X-WR-CALNAME:DIOCESI DI ROMA
X-ORIGINAL-URL:https://www.diocesidiroma.it
X-WR-CALDESC:Eventi per DIOCESI DI ROMA
BEGIN:VEVENT
DTSTART;TZID=Europe/Rome:20251028T180000
DTEND;TZID=Europe/Rome:20251028T200000
DTSTAMP:20260423T065046
CREATED:20250910T111029Z
LAST-MODIFIED:20250910T111029Z
UID:36952-1761674400-1761681600@www.diocesidiroma.it
SUMMARY:Incontro formazione volontariato  diocesano presso la Sala Conferenze del Seminario Romano Maggiore (Uff. Pastorale Familiare)
DESCRIPTION:Incontro formazione volontariato  diocesano presso la Sala Conferenze del Seminario Romano Maggiore (Uff. Pastorale Familiare) \n
URL:https://www.diocesidiroma.it/event/incontro-formazione-volontariato-diocesano-presso-la-sala-conferenze-del-seminario-romano-maggiore-uff-pastorale-familiare/
CATEGORIES:In Diocesi,Iniziative degli Uffici
END:VEVENT
END:VCALENDAR