BEGIN:VCALENDAR
VERSION:2.0
PRODID:-//DIOCESI DI ROMA - ECPv4.6.14.1//NONSGML v1.0//EN
CALSCALE:GREGORIAN
METHOD:PUBLISH
X-WR-CALNAME:DIOCESI DI ROMA
X-ORIGINAL-URL:https://www.diocesidiroma.it
X-WR-CALDESC:Eventi per DIOCESI DI ROMA
BEGIN:VEVENT
DTSTART;TZID=Europe/Rome:20231113T190000
DTEND;TZID=Europe/Rome:20231113T190000
DTSTAMP:20260421T082429
CREATED:20231006T085305Z
LAST-MODIFIED:20231006T085305Z
UID:27536-1699902000-1699902000@www.diocesidiroma.it
SUMMARY:Incontro in preparazione alla Settimana Sociale dei Cattolici Italliani - parrocchia Santa Maria ai Monti - (Uff. past. sociale)
DESCRIPTION:Incontro in preparazione alla Settimana Sociale dei Cattolici Italliani – parrocchia Santa Maria ai Monti – (Uff. past. sociale) \n
URL:https://www.diocesidiroma.it/event/incontro-in-preparazione-alla-settimana-sociale-dei-cattolici-italliani-parrocchia-santa-maria-ai-monti-uff-past-sociale-2/
CATEGORIES:In Diocesi,Iniziative degli Uffici
END:VEVENT
END:VCALENDAR