BEGIN:VCALENDAR
VERSION:2.0
PRODID:-//DIOCESI DI ROMA - ECPv4.6.14.1//NONSGML v1.0//EN
CALSCALE:GREGORIAN
METHOD:PUBLISH
X-WR-CALNAME:DIOCESI DI ROMA
X-ORIGINAL-URL:https://www.diocesidiroma.it
X-WR-CALDESC:Eventi per DIOCESI DI ROMA
BEGIN:VEVENT
DTSTART;VALUE=DATE:20240610
DTEND;VALUE=DATE:20240611
DTSTAMP:20260421T200113
CREATED:20240424T140103Z
LAST-MODIFIED:20240424T140107Z
UID:29680-1717977600-1718063999@www.diocesidiroma.it
SUMMARY:Incontro in preparazione alla Settimana Sociale dei Cattolici Italliani - parrocchia Santa Maria ai Monti - Uff. past. sociale
DESCRIPTION: Incontro in preparazione alla Settimana Sociale dei Cattolici Italiani – parrocchia Santa Maria ai Monti – Uff. past. sociale \n
URL:https://www.diocesidiroma.it/event/incontro-in-preparazione-alla-settimana-sociale-dei-cattolici-italliani-parrocchia-santa-maria-ai-monti-uff-past-sociale-5/
CATEGORIES:Iniziative degli Uffici
END:VEVENT
END:VCALENDAR