BEGIN:VCALENDAR
VERSION:2.0
PRODID:-//DIOCESI DI ROMA - ECPv4.6.14.1//NONSGML v1.0//EN
CALSCALE:GREGORIAN
METHOD:PUBLISH
X-WR-CALNAME:DIOCESI DI ROMA
X-ORIGINAL-URL:https://www.diocesidiroma.it
X-WR-CALDESC:Eventi per DIOCESI DI ROMA
BEGIN:VEVENT
DTSTART;VALUE=DATE:20260513
DTEND;VALUE=DATE:20260514
DTSTAMP:20260420T222555
CREATED:20251021T105838Z
LAST-MODIFIED:20251021T105838Z
UID:38100-1778630400-1778716799@www.diocesidiroma.it
SUMMARY:Incontro in vista della Giornata mondiale delle comunicazioni sociali
DESCRIPTION:Incontro in vista della Giornata mondiale delle comunicazioni sociali (Uff. per le Comunicazioni Sociali) \n
URL:https://www.diocesidiroma.it/event/incontro-in-vista-della-giornata-mondiale-delle-comunicazioni-sociali/
CATEGORIES:Giornate di sensibilizzazione,In Diocesi
END:VEVENT
END:VCALENDAR