BEGIN:VCALENDAR
VERSION:2.0
PRODID:-//DIOCESI DI ROMA - ECPv4.6.14.1//NONSGML v1.0//EN
CALSCALE:GREGORIAN
METHOD:PUBLISH
X-WR-CALNAME:DIOCESI DI ROMA
X-ORIGINAL-URL:https://www.diocesidiroma.it
X-WR-CALDESC:Eventi per DIOCESI DI ROMA
BEGIN:VEVENT
DTSTART;VALUE=DATE:20250925
DTEND;VALUE=DATE:20250926
DTSTAMP:20260422T125248
CREATED:20250910T103042Z
LAST-MODIFIED:20250910T103216Z
UID:36845-1758758400-1758844799@www.diocesidiroma.it
SUMMARY:Incontro nuovi Parroci
DESCRIPTION:Incontro nuovi Parroci \n
URL:https://www.diocesidiroma.it/event/incontro-nuovi-parroci-2/
CATEGORIES:In Diocesi,Iniziative degli Uffici
END:VEVENT
END:VCALENDAR