BEGIN:VCALENDAR
VERSION:2.0
PRODID:-//DIOCESI DI ROMA - ECPv4.6.14.1//NONSGML v1.0//EN
CALSCALE:GREGORIAN
METHOD:PUBLISH
X-WR-CALNAME:DIOCESI DI ROMA
X-ORIGINAL-URL:https://www.diocesidiroma.it
X-WR-CALDESC:Eventi per DIOCESI DI ROMA
BEGIN:VEVENT
DTSTART;TZID=Europe/Rome:20250526T203000
DTEND;TZID=Europe/Rome:20250526T203000
DTSTAMP:20260424T141217
CREATED:20250523T090929Z
LAST-MODIFIED:20250523T090929Z
UID:35770-1748291400-1748291400@www.diocesidiroma.it
SUMMARY:Incontro online con l’equipe sinodale
DESCRIPTION:Incontro online con l’equipe sinodale \n
URL:https://www.diocesidiroma.it/event/incontro-online-con-lequipe-sinodale/
CATEGORIES:Vicario Generale
END:VEVENT
END:VCALENDAR