BEGIN:VCALENDAR
VERSION:2.0
PRODID:-//DIOCESI DI ROMA - ECPv4.6.14.1//NONSGML v1.0//EN
CALSCALE:GREGORIAN
METHOD:PUBLISH
X-WR-CALNAME:DIOCESI DI ROMA
X-ORIGINAL-URL:https://www.diocesidiroma.it
X-WR-CALDESC:Eventi per DIOCESI DI ROMA
BEGIN:VEVENT
DTSTART;TZID=Europe/Rome:20231021T100000
DTEND;TZID=Europe/Rome:20231021T160000
DTSTAMP:20260421T075257
CREATED:20231006T092131Z
LAST-MODIFIED:20231006T092131Z
UID:27560-1697882400-1697904000@www.diocesidiroma.it
SUMMARY:Incontro online su "Problemi psicologici\, matrimonio e nullità" -(Uff. matrimoni)
DESCRIPTION:Incontro online su “Problemi psicologici\, matrimonio e nullità” -(Uff. matrimoni) \n
URL:https://www.diocesidiroma.it/event/incontro-online-su-problemi-psicologici-matrimonio-e-nullita-uff-matrimoni/
CATEGORIES:In Diocesi,Iniziative degli Uffici
END:VEVENT
END:VCALENDAR